BEGIN:VCALENDAR
VERSION:2.0
PRODID:-//AJEF - ECPv6.15.20//NONSGML v1.0//EN
CALSCALE:GREGORIAN
METHOD:PUBLISH
X-ORIGINAL-URL:https://ajef.net
X-WR-CALDESC:Évènements pour AJEF
REFRESH-INTERVAL;VALUE=DURATION:PT1H
X-Robots-Tag:noindex
X-PUBLISHED-TTL:PT1H
BEGIN:VTIMEZONE
TZID:Europe/Paris
BEGIN:DAYLIGHT
TZOFFSETFROM:+0100
TZOFFSETTO:+0200
TZNAME:CEST
DTSTART:20250330T010000
END:DAYLIGHT
BEGIN:STANDARD
TZOFFSETFROM:+0200
TZOFFSETTO:+0100
TZNAME:CET
DTSTART:20251026T010000
END:STANDARD
BEGIN:DAYLIGHT
TZOFFSETFROM:+0100
TZOFFSETTO:+0200
TZNAME:CEST
DTSTART:20260329T010000
END:DAYLIGHT
BEGIN:STANDARD
TZOFFSETFROM:+0200
TZOFFSETTO:+0100
TZNAME:CET
DTSTART:20261025T010000
END:STANDARD
BEGIN:DAYLIGHT
TZOFFSETFROM:+0100
TZOFFSETTO:+0200
TZNAME:CEST
DTSTART:20270328T010000
END:DAYLIGHT
BEGIN:STANDARD
TZOFFSETFROM:+0200
TZOFFSETTO:+0100
TZNAME:CET
DTSTART:20271031T010000
END:STANDARD
END:VTIMEZONE
BEGIN:VEVENT
DTSTART;TZID=Europe/Paris:20260422T140000
DTEND;TZID=Europe/Paris:20260422T180000
DTSTAMP:20260421T073910
CREATED:20260419T094604Z
LAST-MODIFIED:20260419T094604Z
UID:10243-1776866400-1776880800@ajef.net
SUMMARY:Quelle capitalisation « à la française » en soutien au système de retraite ? - En partenariat avec la chaire TDTE
DESCRIPTION:
URL:https://ajef.net/evenements-agenda/quelle-capitalisation-a-la-francaise-en-soutien-au-systeme-de-retraite-en-partenariat-avec-la-chaire-tdte/
LOCATION:15\, quai Anatole France – 75007 Paris\, 15\, quai Anatole France\, Paris\, 75007\, France
ORGANIZER;CN="AJEF":MAILTO:ajefassociation@gmail.com
END:VEVENT
END:VCALENDAR